BEGIN:VCALENDAR
VERSION:2.0
PRODID:-//Maison de L’Entreprise de Saint-Nazaire - ECPv6.6.3//NONSGML v1.0//EN
CALSCALE:GREGORIAN
METHOD:PUBLISH
X-ORIGINAL-URL:https://mde-stnazaire.fr
X-WR-CALDESC:évènements pour Maison de L’Entreprise de Saint-Nazaire
REFRESH-INTERVAL;VALUE=DURATION:PT1H
X-Robots-Tag:noindex
X-PUBLISHED-TTL:PT1H
BEGIN:VTIMEZONE
TZID:UTC
BEGIN:STANDARD
TZOFFSETFROM:+0000
TZOFFSETTO:+0000
TZNAME:UTC
DTSTART:20240101T000000
END:STANDARD
END:VTIMEZONE
BEGIN:VEVENT
DTSTART;TZID=UTC:20240611T100000
DTEND;TZID=UTC:20240611T123000
DTSTAMP:20260422T082534
CREATED:20240215T144959Z
LAST-MODIFIED:20240708T133023Z
UID:10000402-1718100000-1718109000@mde-stnazaire.fr
SUMMARY:Matinée d'infos à la création / reprise d'entreprise
DESCRIPTION:En quoi consiste cette réunion ?\nLes réunions d’information “Création / Reprise d’entreprise” sont destinés aux futurs créateurs ou repreneurs d’entreprises (commerce\, industrie\, services) sont dispensées tous les mardis. \nCes réunions vous apportent une première information pour vous permettre de mesurer les implications de la création ou de la reprise d’entreprise et d’aborder les questions qui se posent ou se poseront à vous lors de l’élaboration de votre projet : aspects réglementaires\, étude de marché\, approche commerciale\, dossier financier\, aspects juridiques\, fiscaux\, sociaux les spécificités de la reprise ainsi que les démarches administratives. \nEn résumé les réunions d’information vous permettront de découvrir : \n\nles étapes incontournables\nles acteurs qui vous accompagnent à la création-reprise d’entreprise\n\nInformations pratiques :\nTous les mardis matin de 10h00 à 12h30\nMaison de l’Entreprise – 6 esplanade Anna Marly 44600 Saint-Nazaire\nGratuit sur inscription en cliquant ici.
URL:https://mde-stnazaire.fr/evenement/matinee-dinfos-a-la-creation-reprise-dentreprise-2/2024-06-11/
LOCATION:Maison de l’Entreprise\, 6 esplanade Anna Marly\, Saint-Nazaire\, 44600\, France
CATEGORIES:Création / Reprise
ATTACH;FMTTYPE=image/png:https://mde-stnazaire.fr/wp-content/uploads/2024/02/Agenda-site-web-1.png
END:VEVENT
BEGIN:VEVENT
DTSTART;TZID=UTC:20240604T100000
DTEND;TZID=UTC:20240604T123000
DTSTAMP:20260422T082534
CREATED:20240215T144959Z
LAST-MODIFIED:20240708T133023Z
UID:10000401-1717495200-1717504200@mde-stnazaire.fr
SUMMARY:Matinée d'infos à la création / reprise d'entreprise
DESCRIPTION:En quoi consiste cette réunion ?\nLes réunions d’information “Création / Reprise d’entreprise” sont destinés aux futurs créateurs ou repreneurs d’entreprises (commerce\, industrie\, services) sont dispensées tous les mardis. \nCes réunions vous apportent une première information pour vous permettre de mesurer les implications de la création ou de la reprise d’entreprise et d’aborder les questions qui se posent ou se poseront à vous lors de l’élaboration de votre projet : aspects réglementaires\, étude de marché\, approche commerciale\, dossier financier\, aspects juridiques\, fiscaux\, sociaux les spécificités de la reprise ainsi que les démarches administratives. \nEn résumé les réunions d’information vous permettront de découvrir : \n\nles étapes incontournables\nles acteurs qui vous accompagnent à la création-reprise d’entreprise\n\nInformations pratiques :\nTous les mardis matin de 10h00 à 12h30\nMaison de l’Entreprise – 6 esplanade Anna Marly 44600 Saint-Nazaire\nGratuit sur inscription en cliquant ici.
URL:https://mde-stnazaire.fr/evenement/matinee-dinfos-a-la-creation-reprise-dentreprise-2/2024-06-04/
LOCATION:Maison de l’Entreprise\, 6 esplanade Anna Marly\, Saint-Nazaire\, 44600\, France
CATEGORIES:Création / Reprise
ATTACH;FMTTYPE=image/png:https://mde-stnazaire.fr/wp-content/uploads/2024/02/Agenda-site-web-1.png
END:VEVENT
BEGIN:VEVENT
DTSTART;TZID=UTC:20240528T100000
DTEND;TZID=UTC:20240528T123000
DTSTAMP:20260422T082534
CREATED:20240215T144959Z
LAST-MODIFIED:20240708T133023Z
UID:10000400-1716890400-1716899400@mde-stnazaire.fr
SUMMARY:Matinée d'infos à la création / reprise d'entreprise
DESCRIPTION:En quoi consiste cette réunion ?\nLes réunions d’information “Création / Reprise d’entreprise” sont destinés aux futurs créateurs ou repreneurs d’entreprises (commerce\, industrie\, services) sont dispensées tous les mardis. \nCes réunions vous apportent une première information pour vous permettre de mesurer les implications de la création ou de la reprise d’entreprise et d’aborder les questions qui se posent ou se poseront à vous lors de l’élaboration de votre projet : aspects réglementaires\, étude de marché\, approche commerciale\, dossier financier\, aspects juridiques\, fiscaux\, sociaux les spécificités de la reprise ainsi que les démarches administratives. \nEn résumé les réunions d’information vous permettront de découvrir : \n\nles étapes incontournables\nles acteurs qui vous accompagnent à la création-reprise d’entreprise\n\nInformations pratiques :\nTous les mardis matin de 10h00 à 12h30\nMaison de l’Entreprise – 6 esplanade Anna Marly 44600 Saint-Nazaire\nGratuit sur inscription en cliquant ici.
URL:https://mde-stnazaire.fr/evenement/matinee-dinfos-a-la-creation-reprise-dentreprise-2/2024-05-28/
LOCATION:Maison de l’Entreprise\, 6 esplanade Anna Marly\, Saint-Nazaire\, 44600\, France
CATEGORIES:Création / Reprise
ATTACH;FMTTYPE=image/png:https://mde-stnazaire.fr/wp-content/uploads/2024/02/Agenda-site-web-1.png
END:VEVENT
BEGIN:VEVENT
DTSTART;TZID=UTC:20240521T100000
DTEND;TZID=UTC:20240521T123000
DTSTAMP:20260422T082534
CREATED:20240215T144959Z
LAST-MODIFIED:20240708T133023Z
UID:10000399-1716285600-1716294600@mde-stnazaire.fr
SUMMARY:Matinée d'infos à la création / reprise d'entreprise
DESCRIPTION:En quoi consiste cette réunion ?\nLes réunions d’information “Création / Reprise d’entreprise” sont destinés aux futurs créateurs ou repreneurs d’entreprises (commerce\, industrie\, services) sont dispensées tous les mardis. \nCes réunions vous apportent une première information pour vous permettre de mesurer les implications de la création ou de la reprise d’entreprise et d’aborder les questions qui se posent ou se poseront à vous lors de l’élaboration de votre projet : aspects réglementaires\, étude de marché\, approche commerciale\, dossier financier\, aspects juridiques\, fiscaux\, sociaux les spécificités de la reprise ainsi que les démarches administratives. \nEn résumé les réunions d’information vous permettront de découvrir : \n\nles étapes incontournables\nles acteurs qui vous accompagnent à la création-reprise d’entreprise\n\nInformations pratiques :\nTous les mardis matin de 10h00 à 12h30\nMaison de l’Entreprise – 6 esplanade Anna Marly 44600 Saint-Nazaire\nGratuit sur inscription en cliquant ici.
URL:https://mde-stnazaire.fr/evenement/matinee-dinfos-a-la-creation-reprise-dentreprise-2/2024-05-21/
LOCATION:Maison de l’Entreprise\, 6 esplanade Anna Marly\, Saint-Nazaire\, 44600\, France
CATEGORIES:Création / Reprise
ATTACH;FMTTYPE=image/png:https://mde-stnazaire.fr/wp-content/uploads/2024/02/Agenda-site-web-1.png
END:VEVENT
BEGIN:VEVENT
DTSTART;TZID=UTC:20240514T100000
DTEND;TZID=UTC:20240514T123000
DTSTAMP:20260422T082534
CREATED:20240215T144959Z
LAST-MODIFIED:20240708T133023Z
UID:10000398-1715680800-1715689800@mde-stnazaire.fr
SUMMARY:Matinée d'infos à la création / reprise d'entreprise
DESCRIPTION:En quoi consiste cette réunion ?\nLes réunions d’information “Création / Reprise d’entreprise” sont destinés aux futurs créateurs ou repreneurs d’entreprises (commerce\, industrie\, services) sont dispensées tous les mardis. \nCes réunions vous apportent une première information pour vous permettre de mesurer les implications de la création ou de la reprise d’entreprise et d’aborder les questions qui se posent ou se poseront à vous lors de l’élaboration de votre projet : aspects réglementaires\, étude de marché\, approche commerciale\, dossier financier\, aspects juridiques\, fiscaux\, sociaux les spécificités de la reprise ainsi que les démarches administratives. \nEn résumé les réunions d’information vous permettront de découvrir : \n\nles étapes incontournables\nles acteurs qui vous accompagnent à la création-reprise d’entreprise\n\nInformations pratiques :\nTous les mardis matin de 10h00 à 12h30\nMaison de l’Entreprise – 6 esplanade Anna Marly 44600 Saint-Nazaire\nGratuit sur inscription en cliquant ici.
URL:https://mde-stnazaire.fr/evenement/matinee-dinfos-a-la-creation-reprise-dentreprise-2/2024-05-14/
LOCATION:Maison de l’Entreprise\, 6 esplanade Anna Marly\, Saint-Nazaire\, 44600\, France
CATEGORIES:Création / Reprise
ATTACH;FMTTYPE=image/png:https://mde-stnazaire.fr/wp-content/uploads/2024/02/Agenda-site-web-1.png
END:VEVENT
BEGIN:VEVENT
DTSTART;TZID=UTC:20240507T100000
DTEND;TZID=UTC:20240507T123000
DTSTAMP:20260422T082534
CREATED:20240215T144959Z
LAST-MODIFIED:20240708T133023Z
UID:10000397-1715076000-1715085000@mde-stnazaire.fr
SUMMARY:Matinée d'infos à la création / reprise d'entreprise
DESCRIPTION:En quoi consiste cette réunion ?\nLes réunions d’information “Création / Reprise d’entreprise” sont destinés aux futurs créateurs ou repreneurs d’entreprises (commerce\, industrie\, services) sont dispensées tous les mardis. \nCes réunions vous apportent une première information pour vous permettre de mesurer les implications de la création ou de la reprise d’entreprise et d’aborder les questions qui se posent ou se poseront à vous lors de l’élaboration de votre projet : aspects réglementaires\, étude de marché\, approche commerciale\, dossier financier\, aspects juridiques\, fiscaux\, sociaux les spécificités de la reprise ainsi que les démarches administratives. \nEn résumé les réunions d’information vous permettront de découvrir : \n\nles étapes incontournables\nles acteurs qui vous accompagnent à la création-reprise d’entreprise\n\nInformations pratiques :\nTous les mardis matin de 10h00 à 12h30\nMaison de l’Entreprise – 6 esplanade Anna Marly 44600 Saint-Nazaire\nGratuit sur inscription en cliquant ici.
URL:https://mde-stnazaire.fr/evenement/matinee-dinfos-a-la-creation-reprise-dentreprise-2/2024-05-07/
LOCATION:Maison de l’Entreprise\, 6 esplanade Anna Marly\, Saint-Nazaire\, 44600\, France
CATEGORIES:Création / Reprise
ATTACH;FMTTYPE=image/png:https://mde-stnazaire.fr/wp-content/uploads/2024/02/Agenda-site-web-1.png
END:VEVENT
BEGIN:VEVENT
DTSTART;TZID=UTC:20240430T100000
DTEND;TZID=UTC:20240430T123000
DTSTAMP:20260422T082534
CREATED:20240215T144959Z
LAST-MODIFIED:20240708T133023Z
UID:10000396-1714471200-1714480200@mde-stnazaire.fr
SUMMARY:Matinée d'infos à la création / reprise d'entreprise
DESCRIPTION:En quoi consiste cette réunion ?\nLes réunions d’information “Création / Reprise d’entreprise” sont destinés aux futurs créateurs ou repreneurs d’entreprises (commerce\, industrie\, services) sont dispensées tous les mardis. \nCes réunions vous apportent une première information pour vous permettre de mesurer les implications de la création ou de la reprise d’entreprise et d’aborder les questions qui se posent ou se poseront à vous lors de l’élaboration de votre projet : aspects réglementaires\, étude de marché\, approche commerciale\, dossier financier\, aspects juridiques\, fiscaux\, sociaux les spécificités de la reprise ainsi que les démarches administratives. \nEn résumé les réunions d’information vous permettront de découvrir : \n\nles étapes incontournables\nles acteurs qui vous accompagnent à la création-reprise d’entreprise\n\nInformations pratiques :\nTous les mardis matin de 10h00 à 12h30\nMaison de l’Entreprise – 6 esplanade Anna Marly 44600 Saint-Nazaire\nGratuit sur inscription en cliquant ici.
URL:https://mde-stnazaire.fr/evenement/matinee-dinfos-a-la-creation-reprise-dentreprise-2/2024-04-30/
LOCATION:Maison de l’Entreprise\, 6 esplanade Anna Marly\, Saint-Nazaire\, 44600\, France
CATEGORIES:Création / Reprise
ATTACH;FMTTYPE=image/png:https://mde-stnazaire.fr/wp-content/uploads/2024/02/Agenda-site-web-1.png
END:VEVENT
BEGIN:VEVENT
DTSTART;TZID=UTC:20240423T100000
DTEND;TZID=UTC:20240423T123000
DTSTAMP:20260422T082534
CREATED:20240215T144959Z
LAST-MODIFIED:20240708T133023Z
UID:10000395-1713866400-1713875400@mde-stnazaire.fr
SUMMARY:Matinée d'infos à la création / reprise d'entreprise
DESCRIPTION:En quoi consiste cette réunion ?\nLes réunions d’information “Création / Reprise d’entreprise” sont destinés aux futurs créateurs ou repreneurs d’entreprises (commerce\, industrie\, services) sont dispensées tous les mardis. \nCes réunions vous apportent une première information pour vous permettre de mesurer les implications de la création ou de la reprise d’entreprise et d’aborder les questions qui se posent ou se poseront à vous lors de l’élaboration de votre projet : aspects réglementaires\, étude de marché\, approche commerciale\, dossier financier\, aspects juridiques\, fiscaux\, sociaux les spécificités de la reprise ainsi que les démarches administratives. \nEn résumé les réunions d’information vous permettront de découvrir : \n\nles étapes incontournables\nles acteurs qui vous accompagnent à la création-reprise d’entreprise\n\nInformations pratiques :\nTous les mardis matin de 10h00 à 12h30\nMaison de l’Entreprise – 6 esplanade Anna Marly 44600 Saint-Nazaire\nGratuit sur inscription en cliquant ici.
URL:https://mde-stnazaire.fr/evenement/matinee-dinfos-a-la-creation-reprise-dentreprise-2/2024-04-23/
LOCATION:Maison de l’Entreprise\, 6 esplanade Anna Marly\, Saint-Nazaire\, 44600\, France
CATEGORIES:Création / Reprise
ATTACH;FMTTYPE=image/png:https://mde-stnazaire.fr/wp-content/uploads/2024/02/Agenda-site-web-1.png
END:VEVENT
BEGIN:VEVENT
DTSTART;TZID=UTC:20240416T100000
DTEND;TZID=UTC:20240416T123000
DTSTAMP:20260422T082534
CREATED:20240215T144959Z
LAST-MODIFIED:20240708T133023Z
UID:10000394-1713261600-1713270600@mde-stnazaire.fr
SUMMARY:Matinée d'infos à la création / reprise d'entreprise
DESCRIPTION:En quoi consiste cette réunion ?\nLes réunions d’information “Création / Reprise d’entreprise” sont destinés aux futurs créateurs ou repreneurs d’entreprises (commerce\, industrie\, services) sont dispensées tous les mardis. \nCes réunions vous apportent une première information pour vous permettre de mesurer les implications de la création ou de la reprise d’entreprise et d’aborder les questions qui se posent ou se poseront à vous lors de l’élaboration de votre projet : aspects réglementaires\, étude de marché\, approche commerciale\, dossier financier\, aspects juridiques\, fiscaux\, sociaux les spécificités de la reprise ainsi que les démarches administratives. \nEn résumé les réunions d’information vous permettront de découvrir : \n\nles étapes incontournables\nles acteurs qui vous accompagnent à la création-reprise d’entreprise\n\nInformations pratiques :\nTous les mardis matin de 10h00 à 12h30\nMaison de l’Entreprise – 6 esplanade Anna Marly 44600 Saint-Nazaire\nGratuit sur inscription en cliquant ici.
URL:https://mde-stnazaire.fr/evenement/matinee-dinfos-a-la-creation-reprise-dentreprise-2/2024-04-16/
LOCATION:Maison de l’Entreprise\, 6 esplanade Anna Marly\, Saint-Nazaire\, 44600\, France
CATEGORIES:Création / Reprise
ATTACH;FMTTYPE=image/png:https://mde-stnazaire.fr/wp-content/uploads/2024/02/Agenda-site-web-1.png
END:VEVENT
BEGIN:VEVENT
DTSTART;TZID=UTC:20240409T100000
DTEND;TZID=UTC:20240409T123000
DTSTAMP:20260422T082534
CREATED:20240215T144959Z
LAST-MODIFIED:20240708T133023Z
UID:10000393-1712656800-1712665800@mde-stnazaire.fr
SUMMARY:Matinée d'infos à la création / reprise d'entreprise
DESCRIPTION:En quoi consiste cette réunion ?\nLes réunions d’information “Création / Reprise d’entreprise” sont destinés aux futurs créateurs ou repreneurs d’entreprises (commerce\, industrie\, services) sont dispensées tous les mardis. \nCes réunions vous apportent une première information pour vous permettre de mesurer les implications de la création ou de la reprise d’entreprise et d’aborder les questions qui se posent ou se poseront à vous lors de l’élaboration de votre projet : aspects réglementaires\, étude de marché\, approche commerciale\, dossier financier\, aspects juridiques\, fiscaux\, sociaux les spécificités de la reprise ainsi que les démarches administratives. \nEn résumé les réunions d’information vous permettront de découvrir : \n\nles étapes incontournables\nles acteurs qui vous accompagnent à la création-reprise d’entreprise\n\nInformations pratiques :\nTous les mardis matin de 10h00 à 12h30\nMaison de l’Entreprise – 6 esplanade Anna Marly 44600 Saint-Nazaire\nGratuit sur inscription en cliquant ici.
URL:https://mde-stnazaire.fr/evenement/matinee-dinfos-a-la-creation-reprise-dentreprise-2/2024-04-09/
LOCATION:Maison de l’Entreprise\, 6 esplanade Anna Marly\, Saint-Nazaire\, 44600\, France
CATEGORIES:Création / Reprise
ATTACH;FMTTYPE=image/png:https://mde-stnazaire.fr/wp-content/uploads/2024/02/Agenda-site-web-1.png
END:VEVENT
BEGIN:VEVENT
DTSTART;TZID=UTC:20240402T100000
DTEND;TZID=UTC:20240402T123000
DTSTAMP:20260422T082534
CREATED:20240215T144959Z
LAST-MODIFIED:20240708T133023Z
UID:10000392-1712052000-1712061000@mde-stnazaire.fr
SUMMARY:Matinée d'infos à la création / reprise d'entreprise
DESCRIPTION:En quoi consiste cette réunion ?\nLes réunions d’information “Création / Reprise d’entreprise” sont destinés aux futurs créateurs ou repreneurs d’entreprises (commerce\, industrie\, services) sont dispensées tous les mardis. \nCes réunions vous apportent une première information pour vous permettre de mesurer les implications de la création ou de la reprise d’entreprise et d’aborder les questions qui se posent ou se poseront à vous lors de l’élaboration de votre projet : aspects réglementaires\, étude de marché\, approche commerciale\, dossier financier\, aspects juridiques\, fiscaux\, sociaux les spécificités de la reprise ainsi que les démarches administratives. \nEn résumé les réunions d’information vous permettront de découvrir : \n\nles étapes incontournables\nles acteurs qui vous accompagnent à la création-reprise d’entreprise\n\nInformations pratiques :\nTous les mardis matin de 10h00 à 12h30\nMaison de l’Entreprise – 6 esplanade Anna Marly 44600 Saint-Nazaire\nGratuit sur inscription en cliquant ici.
URL:https://mde-stnazaire.fr/evenement/matinee-dinfos-a-la-creation-reprise-dentreprise-2/2024-04-02/
LOCATION:Maison de l’Entreprise\, 6 esplanade Anna Marly\, Saint-Nazaire\, 44600\, France
CATEGORIES:Création / Reprise
ATTACH;FMTTYPE=image/png:https://mde-stnazaire.fr/wp-content/uploads/2024/02/Agenda-site-web-1.png
END:VEVENT
BEGIN:VEVENT
DTSTART;TZID=UTC:20240326T100000
DTEND;TZID=UTC:20240326T123000
DTSTAMP:20260422T082534
CREATED:20240215T144959Z
LAST-MODIFIED:20240708T133023Z
UID:10000391-1711447200-1711456200@mde-stnazaire.fr
SUMMARY:Matinée d'infos à la création / reprise d'entreprise
DESCRIPTION:En quoi consiste cette réunion ?\nLes réunions d’information “Création / Reprise d’entreprise” sont destinés aux futurs créateurs ou repreneurs d’entreprises (commerce\, industrie\, services) sont dispensées tous les mardis. \nCes réunions vous apportent une première information pour vous permettre de mesurer les implications de la création ou de la reprise d’entreprise et d’aborder les questions qui se posent ou se poseront à vous lors de l’élaboration de votre projet : aspects réglementaires\, étude de marché\, approche commerciale\, dossier financier\, aspects juridiques\, fiscaux\, sociaux les spécificités de la reprise ainsi que les démarches administratives. \nEn résumé les réunions d’information vous permettront de découvrir : \n\nles étapes incontournables\nles acteurs qui vous accompagnent à la création-reprise d’entreprise\n\nInformations pratiques :\nTous les mardis matin de 10h00 à 12h30\nMaison de l’Entreprise – 6 esplanade Anna Marly 44600 Saint-Nazaire\nGratuit sur inscription en cliquant ici.
URL:https://mde-stnazaire.fr/evenement/matinee-dinfos-a-la-creation-reprise-dentreprise-2/2024-03-26/
LOCATION:Maison de l’Entreprise\, 6 esplanade Anna Marly\, Saint-Nazaire\, 44600\, France
CATEGORIES:Création / Reprise
ATTACH;FMTTYPE=image/png:https://mde-stnazaire.fr/wp-content/uploads/2024/02/Agenda-site-web-1.png
END:VEVENT
BEGIN:VEVENT
DTSTART;TZID=UTC:20240319T100000
DTEND;TZID=UTC:20240319T123000
DTSTAMP:20260422T082534
CREATED:20240215T144959Z
LAST-MODIFIED:20240708T133023Z
UID:10000390-1710842400-1710851400@mde-stnazaire.fr
SUMMARY:Matinée d'infos à la création / reprise d'entreprise
DESCRIPTION:En quoi consiste cette réunion ?\nLes réunions d’information “Création / Reprise d’entreprise” sont destinés aux futurs créateurs ou repreneurs d’entreprises (commerce\, industrie\, services) sont dispensées tous les mardis. \nCes réunions vous apportent une première information pour vous permettre de mesurer les implications de la création ou de la reprise d’entreprise et d’aborder les questions qui se posent ou se poseront à vous lors de l’élaboration de votre projet : aspects réglementaires\, étude de marché\, approche commerciale\, dossier financier\, aspects juridiques\, fiscaux\, sociaux les spécificités de la reprise ainsi que les démarches administratives. \nEn résumé les réunions d’information vous permettront de découvrir : \n\nles étapes incontournables\nles acteurs qui vous accompagnent à la création-reprise d’entreprise\n\nInformations pratiques :\nTous les mardis matin de 10h00 à 12h30\nMaison de l’Entreprise – 6 esplanade Anna Marly 44600 Saint-Nazaire\nGratuit sur inscription en cliquant ici.
URL:https://mde-stnazaire.fr/evenement/matinee-dinfos-a-la-creation-reprise-dentreprise-2/2024-03-19/
LOCATION:Maison de l’Entreprise\, 6 esplanade Anna Marly\, Saint-Nazaire\, 44600\, France
CATEGORIES:Création / Reprise
ATTACH;FMTTYPE=image/png:https://mde-stnazaire.fr/wp-content/uploads/2024/02/Agenda-site-web-1.png
END:VEVENT
BEGIN:VEVENT
DTSTART;TZID=UTC:20240312T100000
DTEND;TZID=UTC:20240312T123000
DTSTAMP:20260422T082534
CREATED:20240215T144959Z
LAST-MODIFIED:20240708T133023Z
UID:10000389-1710237600-1710246600@mde-stnazaire.fr
SUMMARY:Matinée d'infos à la création / reprise d'entreprise
DESCRIPTION:En quoi consiste cette réunion ?\nLes réunions d’information “Création / Reprise d’entreprise” sont destinés aux futurs créateurs ou repreneurs d’entreprises (commerce\, industrie\, services) sont dispensées tous les mardis. \nCes réunions vous apportent une première information pour vous permettre de mesurer les implications de la création ou de la reprise d’entreprise et d’aborder les questions qui se posent ou se poseront à vous lors de l’élaboration de votre projet : aspects réglementaires\, étude de marché\, approche commerciale\, dossier financier\, aspects juridiques\, fiscaux\, sociaux les spécificités de la reprise ainsi que les démarches administratives. \nEn résumé les réunions d’information vous permettront de découvrir : \n\nles étapes incontournables\nles acteurs qui vous accompagnent à la création-reprise d’entreprise\n\nInformations pratiques :\nTous les mardis matin de 10h00 à 12h30\nMaison de l’Entreprise – 6 esplanade Anna Marly 44600 Saint-Nazaire\nGratuit sur inscription en cliquant ici.
URL:https://mde-stnazaire.fr/evenement/matinee-dinfos-a-la-creation-reprise-dentreprise-2/2024-03-12/
LOCATION:Maison de l’Entreprise\, 6 esplanade Anna Marly\, Saint-Nazaire\, 44600\, France
CATEGORIES:Création / Reprise
ATTACH;FMTTYPE=image/png:https://mde-stnazaire.fr/wp-content/uploads/2024/02/Agenda-site-web-1.png
END:VEVENT
BEGIN:VEVENT
DTSTART;TZID=UTC:20240305T100000
DTEND;TZID=UTC:20240305T123000
DTSTAMP:20260422T082534
CREATED:20240215T144959Z
LAST-MODIFIED:20240708T133023Z
UID:10000388-1709632800-1709641800@mde-stnazaire.fr
SUMMARY:Matinée d'infos à la création / reprise d'entreprise
DESCRIPTION:En quoi consiste cette réunion ?\nLes réunions d’information “Création / Reprise d’entreprise” sont destinés aux futurs créateurs ou repreneurs d’entreprises (commerce\, industrie\, services) sont dispensées tous les mardis. \nCes réunions vous apportent une première information pour vous permettre de mesurer les implications de la création ou de la reprise d’entreprise et d’aborder les questions qui se posent ou se poseront à vous lors de l’élaboration de votre projet : aspects réglementaires\, étude de marché\, approche commerciale\, dossier financier\, aspects juridiques\, fiscaux\, sociaux les spécificités de la reprise ainsi que les démarches administratives. \nEn résumé les réunions d’information vous permettront de découvrir : \n\nles étapes incontournables\nles acteurs qui vous accompagnent à la création-reprise d’entreprise\n\nInformations pratiques :\nTous les mardis matin de 10h00 à 12h30\nMaison de l’Entreprise – 6 esplanade Anna Marly 44600 Saint-Nazaire\nGratuit sur inscription en cliquant ici.
URL:https://mde-stnazaire.fr/evenement/matinee-dinfos-a-la-creation-reprise-dentreprise-2/2024-03-05/
LOCATION:Maison de l’Entreprise\, 6 esplanade Anna Marly\, Saint-Nazaire\, 44600\, France
CATEGORIES:Création / Reprise
ATTACH;FMTTYPE=image/png:https://mde-stnazaire.fr/wp-content/uploads/2024/02/Agenda-site-web-1.png
END:VEVENT
BEGIN:VEVENT
DTSTART;TZID=UTC:20240227T100000
DTEND;TZID=UTC:20240227T123000
DTSTAMP:20260422T082534
CREATED:20240215T144959Z
LAST-MODIFIED:20240708T133023Z
UID:10000387-1709028000-1709037000@mde-stnazaire.fr
SUMMARY:Matinée d'infos à la création / reprise d'entreprise
DESCRIPTION:En quoi consiste cette réunion ?\nLes réunions d’information “Création / Reprise d’entreprise” sont destinés aux futurs créateurs ou repreneurs d’entreprises (commerce\, industrie\, services) sont dispensées tous les mardis. \nCes réunions vous apportent une première information pour vous permettre de mesurer les implications de la création ou de la reprise d’entreprise et d’aborder les questions qui se posent ou se poseront à vous lors de l’élaboration de votre projet : aspects réglementaires\, étude de marché\, approche commerciale\, dossier financier\, aspects juridiques\, fiscaux\, sociaux les spécificités de la reprise ainsi que les démarches administratives. \nEn résumé les réunions d’information vous permettront de découvrir : \n\nles étapes incontournables\nles acteurs qui vous accompagnent à la création-reprise d’entreprise\n\nInformations pratiques :\nTous les mardis matin de 10h00 à 12h30\nMaison de l’Entreprise – 6 esplanade Anna Marly 44600 Saint-Nazaire\nGratuit sur inscription en cliquant ici.
URL:https://mde-stnazaire.fr/evenement/matinee-dinfos-a-la-creation-reprise-dentreprise-2/2024-02-27/
LOCATION:Maison de l’Entreprise\, 6 esplanade Anna Marly\, Saint-Nazaire\, 44600\, France
CATEGORIES:Création / Reprise
ATTACH;FMTTYPE=image/png:https://mde-stnazaire.fr/wp-content/uploads/2024/02/Agenda-site-web-1.png
END:VEVENT
BEGIN:VEVENT
DTSTART;TZID=UTC:20240220T100000
DTEND;TZID=UTC:20240220T123000
DTSTAMP:20260422T082534
CREATED:20240215T144959Z
LAST-MODIFIED:20240708T133023Z
UID:10000347-1708423200-1708432200@mde-stnazaire.fr
SUMMARY:Matinée d'infos à la création / reprise d'entreprise
DESCRIPTION:En quoi consiste cette réunion ?\nLes réunions d’information “Création / Reprise d’entreprise” sont destinés aux futurs créateurs ou repreneurs d’entreprises (commerce\, industrie\, services) sont dispensées tous les mardis. \nCes réunions vous apportent une première information pour vous permettre de mesurer les implications de la création ou de la reprise d’entreprise et d’aborder les questions qui se posent ou se poseront à vous lors de l’élaboration de votre projet : aspects réglementaires\, étude de marché\, approche commerciale\, dossier financier\, aspects juridiques\, fiscaux\, sociaux les spécificités de la reprise ainsi que les démarches administratives. \nEn résumé les réunions d’information vous permettront de découvrir : \n\nles étapes incontournables\nles acteurs qui vous accompagnent à la création-reprise d’entreprise\n\nInformations pratiques :\nTous les mardis matin de 10h00 à 12h30\nMaison de l’Entreprise – 6 esplanade Anna Marly 44600 Saint-Nazaire\nGratuit sur inscription en cliquant ici.
URL:https://mde-stnazaire.fr/evenement/matinee-dinfos-a-la-creation-reprise-dentreprise-2/2024-02-20/
LOCATION:Maison de l’Entreprise\, 6 esplanade Anna Marly\, Saint-Nazaire\, 44600\, France
CATEGORIES:Création / Reprise
ATTACH;FMTTYPE=image/png:https://mde-stnazaire.fr/wp-content/uploads/2024/02/Agenda-site-web-1.png
END:VEVENT
END:VCALENDAR