BEGIN:VCALENDAR
VERSION:2.0
PRODID:-//Maison de L’Entreprise de Saint-Nazaire - ECPv6.6.3//NONSGML v1.0//EN
CALSCALE:GREGORIAN
METHOD:PUBLISH
X-ORIGINAL-URL:https://mde-stnazaire.fr
X-WR-CALDESC:évènements pour Maison de L’Entreprise de Saint-Nazaire
REFRESH-INTERVAL;VALUE=DURATION:PT1H
X-Robots-Tag:noindex
X-PUBLISHED-TTL:PT1H
BEGIN:VTIMEZONE
TZID:UTC
BEGIN:STANDARD
TZOFFSETFROM:+0000
TZOFFSETTO:+0000
TZNAME:UTC
DTSTART:20260101T000000
END:STANDARD
END:VTIMEZONE
BEGIN:VEVENT
DTSTART;TZID=UTC:20260213T090000
DTEND;TZID=UTC:20260213T100000
DTSTAMP:20260425T120913
CREATED:20260122T150143Z
LAST-MODIFIED:20260122T150258Z
UID:10001609-1770973200-1770976800@mde-stnazaire.fr
SUMMARY:Petit déj' Habitat
DESCRIPTION:Petit-déjeuner réseau – Habitat & Bâtiment\n\nLa CAE Bâticréateurs vous invite à un petit-déjeuner convivial autour des métiers de l’Habitat et du Bâtiment\, le vendredi 13 février de 9h à 10h\, à la Maison de l’Entreprise.  \nUn rendez-vous pour favoriser les échanges entre entrepreneur·es\, créer des synergies et développer des collaborations entre des activités complémentaires. \nGratuit – Inscription par mail à accueil@baticreateurs.fr
URL:https://mde-stnazaire.fr/evenement/petit-dej-habitat/
CATEGORIES:Autre événement
ATTACH;FMTTYPE=image/png:https://mde-stnazaire.fr/wp-content/uploads/2026/01/20260213_Visuel-Petit-dej-Habitat-St-nazaire.png
END:VEVENT
END:VCALENDAR