BEGIN:VCALENDAR
VERSION:2.0
PRODID:-//Maison de L’Entreprise de Saint-Nazaire - ECPv6.6.3//NONSGML v1.0//EN
CALSCALE:GREGORIAN
METHOD:PUBLISH
X-ORIGINAL-URL:https://mde-stnazaire.fr
X-WR-CALDESC:évènements pour Maison de L’Entreprise de Saint-Nazaire
REFRESH-INTERVAL;VALUE=DURATION:PT1H
X-Robots-Tag:noindex
X-PUBLISHED-TTL:PT1H
BEGIN:VTIMEZONE
TZID:UTC
BEGIN:STANDARD
TZOFFSETFROM:+0000
TZOFFSETTO:+0000
TZNAME:UTC
DTSTART:20250101T000000
END:STANDARD
END:VTIMEZONE
BEGIN:VEVENT
DTSTART;TZID=UTC:20260211T180000
DTEND;TZID=UTC:20260211T213000
DTSTAMP:20260424T112531
CREATED:20260120T104717Z
LAST-MODIFIED:20260120T104717Z
UID:10001594-1770832800-1770845400@mde-stnazaire.fr
SUMMARY:Les Soirées de l'Economie : Bilan de l'année 2025 et perspectives économiques 2026
DESCRIPTION:La Banque de France des Pays de la Loire\, en partenariat avec la CCI Nantes St-Nazaire\, vous convient à deux événements consacrés à l’analyse des tendances économiques et de la conjoncture actuelle : \n\nMardi 10 Février 2026 de 18h à 20h : Maison de l’Entrepreneuriat et des Transitions – 1 rue Françoise Sagan – 44800 Saint-Herblain\nMercredi 11 Février 2026 de 18h à 20h : Maison de l’Entreprise – 6 esplanade Anna Marly – 44600 Saint-Nazaire\n\nPROGRAMME \n\nLes données macroéconomiques à l’international\, en Europe et en France\, présentées par Matthieu BUSSIERE\, Directeur des Études Monétaires et Financières à la Banque de France\nL’économie régionale en 2025 et 2026 – Etude de la Banque de France\nL’économie départementale – Etude de la CCI Nantes St-Nazaire\nPropos conclusifs par Fabrice Rigoulet-Roze\, Préfet de région\, Préfet de la Loire-Atlantique\nCocktail\n\n  \nS’INSCRIRE : Les RDV DE L’ECO | Banque de France \n\nMardi 10 février 2026 de 18h à 20h : CCI Nantes St-Nazaire – Maison de l’Entrepreneuriat et des Transitions – 1 rue Françoise Sagan – 44800 Saint-Herblain\nMercredi 11 février 2026 de 18h à 20h : CCI Nantes St-Nazaire – Maison de l’Entreprise – 6 esplanade Anna Marly – 44600 Saint-Nazaire\n\nCes conférences sont proposées uniquement en présentiel.
URL:https://mde-stnazaire.fr/evenement/les-soirees-de-leconomie-bilan-de-lannee-2025-et-perspectives-economiques-2026/
LOCATION:Maison de l’Entreprise\, 6\, Esplanade Anne Marly\, ST NAZAIRE\, Loire-Atlantique\, 44600\, France
CATEGORIES:Autre événement
ATTACH;FMTTYPE=image/png:https://mde-stnazaire.fr/wp-content/uploads/2026/01/SOIREE-BANQUE-DE-FRANCE.png
END:VEVENT
BEGIN:VEVENT
DTSTART;TZID=UTC:20251013T180000
DTEND;TZID=UTC:20251013T203000
DTSTAMP:20260424T112531
CREATED:20251009T140006Z
LAST-MODIFIED:20251009T141100Z
UID:10001521-1760378400-1760387400@mde-stnazaire.fr
SUMMARY:Les Soirées de l'Economie
DESCRIPTION:La Banque de France des Pays de la Loire et la CCI vous invitent à deux événements pour découvrir les tendances économiques : lundi 13 octobre à Saint-Nazaire et mercredi 15 octobre à Saint-Herblain.\n\nAu programme : \n\nLes données macroéconomiques à l’international\, en Europe et en France.\nSituation et projections des entreprises en Pays de la Loire à mi-année 2025.\nRésultats de la dernière enquête de conjoncture de la CCI Nantes St-Nazaire.\nTemps d’échanges et propos conclusifs.\nCocktail.\n\n📅 Dates à retenir : \n\nLe 13 Octobre à la Maison de l’Entreprise de Saint-Nazaire\nLe 14 Octobre à Saint-Herblain\n\nÉvénement gratuit\, inscrivez-vous !  Les RDV DE L’ÉCO | Banque de France
URL:https://mde-stnazaire.fr/evenement/les-soirees-de-leconomie/
LOCATION:Maison de l’Entreprise\, 6 esplanade Anna Marly\, Saint-Nazaire\, 44600\, France
CATEGORIES:Autre événement
ATTACH;FMTTYPE=image/jpeg:https://mde-stnazaire.fr/wp-content/uploads/2025/10/Capture-decran-2025-09-30-161149.jpg
END:VEVENT
BEGIN:VEVENT
DTSTART;TZID=UTC:20250224T173000
DTEND;TZID=UTC:20250224T220000
DTSTAMP:20260424T112531
CREATED:20250210T142930Z
LAST-MODIFIED:20250210T142930Z
UID:10001370-1740418200-1740434400@mde-stnazaire.fr
SUMMARY:Soirées de l'Économie de la Banque de France
DESCRIPTION:📢 [Conjoncture] Participez aux Soirées de l’Économie de la Banque de France\, un événement incontournable pour tout savoir sur l’économie internationale\, nationale et régionale ! \nAu programme :\n✅Les dernières analyses macroéconomiques : focus sur l’international\, l’Europe et la France\,\n✅Un point détaillé sur la situation des entreprises en Loire-Atlantique\,\n✅Des échanges enrichissants\, une synthèse éclairante et un moment convivial autour d’un cocktail. \n🎤 Avec la participation de Yann Trichard\, Président de la CCI Nantes St-Nazaire et Simone Kamycki\, Directrice Régionale de la Banque de France. \n➡️ L’occasion également de découvrir les résultats de la dernière enquête de conjoncture de la CCI Nantes St-Nazaire. \n📅 Dates à retenir :\nLe 5 février à Saint-Herblain\,\nLe 24 février à la Maison de l’Entreprise de Saint-Nazaire \n🔗 Inscrivez-vous dès maintenant : https://lnkd.in/gtER5kSj
URL:https://mde-stnazaire.fr/evenement/soirees-de-leconomie-de-la-banque-de-france/
CATEGORIES:Autre événement
ATTACH;FMTTYPE=image/jpeg:https://mde-stnazaire.fr/wp-content/uploads/2025/02/BANQUE-DE-FRANCE-DU-24.02.jpg
END:VEVENT
END:VCALENDAR