BEGIN:VCALENDAR
VERSION:2.0
PRODID:-//Maison de L’Entreprise de Saint-Nazaire - ECPv6.6.3//NONSGML v1.0//EN
CALSCALE:GREGORIAN
METHOD:PUBLISH
X-WR-CALNAME:Maison de L’Entreprise de Saint-Nazaire
X-ORIGINAL-URL:https://mde-stnazaire.fr
X-WR-CALDESC:évènements pour Maison de L’Entreprise de Saint-Nazaire
REFRESH-INTERVAL;VALUE=DURATION:PT1H
X-Robots-Tag:noindex
X-PUBLISHED-TTL:PT1H
BEGIN:VTIMEZONE
TZID:UTC
BEGIN:STANDARD
TZOFFSETFROM:+0000
TZOFFSETTO:+0000
TZNAME:UTC
DTSTART:20250101T000000
END:STANDARD
END:VTIMEZONE
BEGIN:VEVENT
DTSTART;TZID=UTC:20250203T100000
DTEND;TZID=UTC:20250203T113000
DTSTAMP:20260420T121706
CREATED:20250106T145306Z
LAST-MODIFIED:20250130T092055Z
UID:10001322-1738576800-1738582200@mde-stnazaire.fr
SUMMARY:Comment financer son projet ?
DESCRIPTION:Une réunion pour passer en revue les moyens de financer la création de son entreprise. \nL’objectif de la réunion est de vous présenter le déroulement d’un plan de financement en passant en revue les différents moyens de financer son projet de création ou reprise d’entreprise : prêt bancaire\, prêt d’honneur\, garantie bancaire et micro-crédit. \nA l’issue de cette réunion\, vous aurez identifié les structures qui peuvent vous aider à monter vos dossiers de financement. \nPour y participer\, il est nécessaire de s’inscrire via ce lien d’inscription.  \nLa réunion est gratuite (le premier lundi du mois)
URL:https://mde-stnazaire.fr/evenement/comment-financer-son-projet-2/
LOCATION:Maison de l’Entreprise\, 6 esplanade Anna Marly\, Saint-Nazaire\, 44600\, France
CATEGORIES:Création / Reprise
ATTACH;FMTTYPE=image/png:https://mde-stnazaire.fr/wp-content/uploads/2024/01/Comment-financer-son-projet.png
END:VEVENT
BEGIN:VEVENT
DTSTART;TZID=UTC:20250203T140000
DTEND;TZID=UTC:20250203T150000
DTSTAMP:20260420T121706
CREATED:20250107T073442Z
LAST-MODIFIED:20250130T091946Z
UID:10001324-1738591200-1738594800@mde-stnazaire.fr
SUMMARY:Les étapes de la déclaration d'immatriculation
DESCRIPTION:NOUVEAU RDV ! Réunion d’information :Les étapes de la déclaration d’immatriculation 🚀 \nGagnez du temps & sécurisez votre démarche ! \n  \nObjectif : \n\nSécuriser votre démarche d’immatriculation avant de déclarer administrativement votre entreprise.\n\nContenu : \n\nIdentifier les informations essentielles\nConnaître les partenaires associés\n\n  \nCo-animée par la Chambre de Commerce et d’Industrie et la Chambre de Métiers et de l’Artisanat. \n  \n🔗 Inscrivez-vous ! \n  \n 
URL:https://mde-stnazaire.fr/evenement/les-etapes-de-la-declaration-dimmatriculation/
LOCATION:Maison de l’Entreprise\, 6 esplanade Anna Marly\, Saint-Nazaire\, 44600\, France
CATEGORIES:Création / Reprise
ATTACH;FMTTYPE=image/png:https://mde-stnazaire.fr/wp-content/uploads/2024/01/Les-etapes-de-la-declaration-dimmatriculation.png
END:VEVENT
BEGIN:VEVENT
DTSTART;TZID=UTC:20250204T100000
DTEND;TZID=UTC:20250204T120000
DTSTAMP:20260420T121706
CREATED:20250107T085329Z
LAST-MODIFIED:20250130T091454Z
UID:10001325-1738663200-1738670400@mde-stnazaire.fr
SUMMARY:Matinée d'infos à la création / reprise d'entreprise
DESCRIPTION:En quoi consiste cette réunion ?\nLes réunions d’information “Création / Reprise d’entreprise” sont destinés aux futurs créateurs ou repreneurs d’entreprises (commerce\, industrie\, services) sont dispensées tous les mardis. \nCes réunions vous apportent une première information pour vous permettre de mesurer les implications de la création ou de la reprise d’entreprise et d’aborder les questions qui se posent ou se poseront à vous lors de l’élaboration de votre projet : aspects réglementaires\, étude de marché\, approche commerciale\, dossier financier\, aspects juridiques\, fiscaux\, sociaux les spécificités de la reprise ainsi que les démarches administratives. \nEn résumé les réunions d’information vous permettront de découvrir : \n\nles étapes incontournables\nles acteurs qui vous accompagnent à la création-reprise d’entreprise\n\nInformations pratiques :\nTous les mardis matin de 10h00 à 12h30\nMaison de l’Entreprise – 6 esplanade Anna Marly 44600 Saint-Nazaire\nGratuit sur inscription en cliquant ici.
URL:https://mde-stnazaire.fr/evenement/matinee-dinfos-a-la-creation-reprise-dentreprise-6/
LOCATION:Maison de l’Entreprise\, 6 esplanade Anna Marly\, Saint-Nazaire\, 44600\, France
CATEGORIES:Création / Reprise
ATTACH;FMTTYPE=image/png:https://mde-stnazaire.fr/wp-content/uploads/2024/02/Agenda-site-web-1.png
END:VEVENT
BEGIN:VEVENT
DTSTART;TZID=UTC:20250205T093000
DTEND;TZID=UTC:20250205T120000
DTSTAMP:20260420T121706
CREATED:20240110T145209Z
LAST-MODIFIED:20250130T091321Z
UID:10001276-1738747800-1738756800@mde-stnazaire.fr
SUMMARY:La couverture sociale du dirigeant
DESCRIPTION:Vous êtes un(e) futur(e) dirigeant(e) d’entreprise et vous vous posez des questions sur votre couverture sociale ? Venez participer à notre atelier en présentiel\, animé par un expert de l’URSSAF ! \nCet atelier vous permettra de : \n\nComprendre les différents régimes de protection sociale qui s’appliquent aux dirigeants.\nDécouvrir les obligations et les droits liés à votre statut.\nApprendre à optimiser votre couverture sociale en fonction de votre situation.\n\nVous portez un projet ?\nCet atelier est l’occasion idéale pour clarifier vos doutes et échanger avec un professionnel sur les meilleures pratiques à adopter. \nNe manquez pas cette opportunité de mieux connaître votre protection sociale et d’assurer votre avenir en tant que dirigeant ! \nLien d’inscription.
URL:https://mde-stnazaire.fr/evenement/la-couverture-sociale-du-dirigeant/
LOCATION:Maison de l’Entreprise\, 6 esplanade Anna Marly\, Saint-Nazaire\, 44600\, France
CATEGORIES:Création / Reprise
ATTACH;FMTTYPE=image/png:https://mde-stnazaire.fr/wp-content/uploads/2024/01/9.png
END:VEVENT
BEGIN:VEVENT
DTSTART;TZID=UTC:20250211T100000
DTEND;TZID=UTC:20250211T120000
DTSTAMP:20260420T121706
CREATED:20250107T085438Z
LAST-MODIFIED:20250130T091224Z
UID:10001326-1739268000-1739275200@mde-stnazaire.fr
SUMMARY:Matinée d'infos à la création / reprise d'entreprise
DESCRIPTION:En quoi consiste cette réunion ?\nLes réunions d’information “Création / Reprise d’entreprise” sont destinés aux futurs créateurs ou repreneurs d’entreprises (commerce\, industrie\, services) sont dispensées tous les mardis. \nCes réunions vous apportent une première information pour vous permettre de mesurer les implications de la création ou de la reprise d’entreprise et d’aborder les questions qui se posent ou se poseront à vous lors de l’élaboration de votre projet : aspects réglementaires\, étude de marché\, approche commerciale\, dossier financier\, aspects juridiques\, fiscaux\, sociaux les spécificités de la reprise ainsi que les démarches administratives. \nEn résumé les réunions d’information vous permettront de découvrir : \n\nles étapes incontournables\nles acteurs qui vous accompagnent à la création-reprise d’entreprise\n\nInformations pratiques :\nTous les mardis matin de 10h00 à 12h30\nMaison de l’Entreprise – 6 esplanade Anna Marly 44600 Saint-Nazaire\nGratuit sur inscription en cliquant ici.
URL:https://mde-stnazaire.fr/evenement/matinee-dinfos-a-la-creation-reprise-dentreprise-7/
LOCATION:Maison de l’Entreprise\, 6 esplanade Anna Marly\, Saint-Nazaire\, 44600\, France
CATEGORIES:Création / Reprise
ATTACH;FMTTYPE=image/png:https://mde-stnazaire.fr/wp-content/uploads/2024/02/Agenda-site-web-1.png
END:VEVENT
BEGIN:VEVENT
DTSTART;TZID=UTC:20250218T100000
DTEND;TZID=UTC:20250218T120000
DTSTAMP:20260420T121706
CREATED:20250107T085615Z
LAST-MODIFIED:20250130T091056Z
UID:10001327-1739872800-1739880000@mde-stnazaire.fr
SUMMARY:Matinée d'infos à la création / reprise d'entreprise
DESCRIPTION:En quoi consiste cette réunion ?\nLes réunions d’information “Création / Reprise d’entreprise” sont destinés aux futurs créateurs ou repreneurs d’entreprises (commerce\, industrie\, services) sont dispensées tous les mardis. \nCes réunions vous apportent une première information pour vous permettre de mesurer les implications de la création ou de la reprise d’entreprise et d’aborder les questions qui se posent ou se poseront à vous lors de l’élaboration de votre projet : aspects réglementaires\, étude de marché\, approche commerciale\, dossier financier\, aspects juridiques\, fiscaux\, sociaux les spécificités de la reprise ainsi que les démarches administratives. \nEn résumé les réunions d’information vous permettront de découvrir : \n\nles étapes incontournables\nles acteurs qui vous accompagnent à la création-reprise d’entreprise\n\nInformations pratiques :\nTous les mardis matin de 10h00 à 12h30\nMaison de l’Entreprise – 6 esplanade Anna Marly 44600 Saint-Nazaire\nGratuit sur inscription en cliquant ici.
URL:https://mde-stnazaire.fr/evenement/matinee-dinfos-a-la-creation-reprise-dentreprise-8/
LOCATION:Maison de l’Entreprise\, 6 esplanade Anna Marly\, Saint-Nazaire\, 44600\, France
CATEGORIES:Création / Reprise
ATTACH;FMTTYPE=image/png:https://mde-stnazaire.fr/wp-content/uploads/2024/02/Agenda-site-web-1.png
END:VEVENT
BEGIN:VEVENT
DTSTART;TZID=UTC:20250224T173000
DTEND;TZID=UTC:20250224T220000
DTSTAMP:20260420T121706
CREATED:20250210T142930Z
LAST-MODIFIED:20250210T142930Z
UID:10001370-1740418200-1740434400@mde-stnazaire.fr
SUMMARY:Soirées de l'Économie de la Banque de France
DESCRIPTION:📢 [Conjoncture] Participez aux Soirées de l’Économie de la Banque de France\, un événement incontournable pour tout savoir sur l’économie internationale\, nationale et régionale ! \nAu programme :\n✅Les dernières analyses macroéconomiques : focus sur l’international\, l’Europe et la France\,\n✅Un point détaillé sur la situation des entreprises en Loire-Atlantique\,\n✅Des échanges enrichissants\, une synthèse éclairante et un moment convivial autour d’un cocktail. \n🎤 Avec la participation de Yann Trichard\, Président de la CCI Nantes St-Nazaire et Simone Kamycki\, Directrice Régionale de la Banque de France. \n➡️ L’occasion également de découvrir les résultats de la dernière enquête de conjoncture de la CCI Nantes St-Nazaire. \n📅 Dates à retenir :\nLe 5 février à Saint-Herblain\,\nLe 24 février à la Maison de l’Entreprise de Saint-Nazaire \n🔗 Inscrivez-vous dès maintenant : https://lnkd.in/gtER5kSj
URL:https://mde-stnazaire.fr/evenement/soirees-de-leconomie-de-la-banque-de-france/
CATEGORIES:Autre événement
ATTACH;FMTTYPE=image/jpeg:https://mde-stnazaire.fr/wp-content/uploads/2025/02/BANQUE-DE-FRANCE-DU-24.02.jpg
END:VEVENT
BEGIN:VEVENT
DTSTART;TZID=UTC:20250225T100000
DTEND;TZID=UTC:20250225T120000
DTSTAMP:20260420T121706
CREATED:20250107T085655Z
LAST-MODIFIED:20250130T090857Z
UID:10001328-1740477600-1740484800@mde-stnazaire.fr
SUMMARY:Matinée d'infos à la création / reprise d'entreprise
DESCRIPTION:En quoi consiste cette réunion ?\nLes réunions d’information “Création / Reprise d’entreprise” sont destinés aux futurs créateurs ou repreneurs d’entreprises (commerce\, industrie\, services) sont dispensées tous les mardis. \nCes réunions vous apportent une première information pour vous permettre de mesurer les implications de la création ou de la reprise d’entreprise et d’aborder les questions qui se posent ou se poseront à vous lors de l’élaboration de votre projet : aspects réglementaires\, étude de marché\, approche commerciale\, dossier financier\, aspects juridiques\, fiscaux\, sociaux les spécificités de la reprise ainsi que les démarches administratives. \nEn résumé les réunions d’information vous permettront de découvrir : \n\nles étapes incontournables\nles acteurs qui vous accompagnent à la création-reprise d’entreprise\n\nInformations pratiques :\nTous les mardis matin de 10h00 à 12h30\nMaison de l’Entreprise – 6 esplanade Anna Marly 44600 Saint-Nazaire\nGratuit sur inscription en cliquant ici.
URL:https://mde-stnazaire.fr/evenement/matinee-dinfos-a-la-creation-reprise-dentreprise-9/
LOCATION:Maison de l’Entreprise\, 6 esplanade Anna Marly\, Saint-Nazaire\, 44600\, France
CATEGORIES:Création / Reprise
ATTACH;FMTTYPE=image/png:https://mde-stnazaire.fr/wp-content/uploads/2024/02/Agenda-site-web-1.png
END:VEVENT
END:VCALENDAR